BEGIN:VCALENDAR
VERSION:2.0
PRODID:-//St. John&#039;s Blackheath - ECPv6.0.4//NONSGML v1.0//EN
CALSCALE:GREGORIAN
METHOD:PUBLISH
X-WR-CALNAME:St. John&#039;s Blackheath
X-ORIGINAL-URL:https://www.stjohnsblackheath.org.uk
X-WR-CALDESC:Events for St. John&#039;s Blackheath
REFRESH-INTERVAL;VALUE=DURATION:PT1H
X-Robots-Tag:noindex
X-PUBLISHED-TTL:PT1H
BEGIN:VTIMEZONE
TZID:Europe/Paris
BEGIN:DAYLIGHT
TZOFFSETFROM:+0100
TZOFFSETTO:+0200
TZNAME:CEST
DTSTART:20260329T010000
END:DAYLIGHT
BEGIN:STANDARD
TZOFFSETFROM:+0200
TZOFFSETTO:+0100
TZNAME:CET
DTSTART:20261025T010000
END:STANDARD
END:VTIMEZONE
BEGIN:VEVENT
DTSTART;TZID=Europe/Paris:20260511T200000
DTEND;TZID=Europe/Paris:20260511T210000
DTSTAMP:20260420T055546
CREATED:20250608T100708Z
LAST-MODIFIED:20250608T100708Z
UID:14742-1778529600-1778533200@www.stjohnsblackheath.org.uk
SUMMARY:Monthly Prayer Gathering
DESCRIPTION:Join us at our Monthly Prayer Gathering\nPraying together is a crucial dimension to our life together. Our monthly prayer meeting is an expression of our commitment to pursuing God’s agenda for our lives\, our world and our church.\nPlease come and join us as we gather before God praying in groups and individually at 8pm on the second Monday of every month.
URL:https://www.stjohnsblackheath.org.uk/event/monthly-prayer-gathering-2/2026-05-11/
LOCATION:St John’s Church\, St John's\, Strathaeden Rd\,\, London\, London\, SE3 7TD
CATEGORIES:Events for men,Events for retirees,Events for women,Featured,Prayer events
ATTACH;FMTTYPE=image/jpeg:https://www.stjohnsblackheath.org.uk/wp-content/uploads/2020/04/prayer.jpg
GEO:51.47579;0.018668
X-APPLE-STRUCTURED-LOCATION;VALUE=URI;X-ADDRESS=St John’s Church St John's Strathaeden Rd London London SE3 7TD;X-APPLE-RADIUS=500;X-TITLE=St John's\, Strathaeden Rd\,:geo:0.018668,51.47579
END:VEVENT
BEGIN:VEVENT
DTSTART;TZID=Europe/Paris:20260608T200000
DTEND;TZID=Europe/Paris:20260608T210000
DTSTAMP:20260420T055546
CREATED:20250608T100708Z
LAST-MODIFIED:20250608T100708Z
UID:14743-1780948800-1780952400@www.stjohnsblackheath.org.uk
SUMMARY:Monthly Prayer Gathering
DESCRIPTION:Join us at our Monthly Prayer Gathering\nPraying together is a crucial dimension to our life together. Our monthly prayer meeting is an expression of our commitment to pursuing God’s agenda for our lives\, our world and our church.\nPlease come and join us as we gather before God praying in groups and individually at 8pm on the second Monday of every month.
URL:https://www.stjohnsblackheath.org.uk/event/monthly-prayer-gathering-2/2026-06-08/
LOCATION:St John’s Church\, St John's\, Strathaeden Rd\,\, London\, London\, SE3 7TD
CATEGORIES:Events for men,Events for retirees,Events for women,Featured,Prayer events
ATTACH;FMTTYPE=image/jpeg:https://www.stjohnsblackheath.org.uk/wp-content/uploads/2020/04/prayer.jpg
GEO:51.47579;0.018668
X-APPLE-STRUCTURED-LOCATION;VALUE=URI;X-ADDRESS=St John’s Church St John's Strathaeden Rd London London SE3 7TD;X-APPLE-RADIUS=500;X-TITLE=St John's\, Strathaeden Rd\,:geo:0.018668,51.47579
END:VEVENT
END:VCALENDAR