BEGIN:VCALENDAR
VERSION:2.0
PRODID:-//St. John&#039;s Blackheath - ECPv6.0.4//NONSGML v1.0//EN
CALSCALE:GREGORIAN
METHOD:PUBLISH
X-ORIGINAL-URL:https://www.stjohnsblackheath.org.uk
X-WR-CALDESC:Events for St. John&#039;s Blackheath
REFRESH-INTERVAL;VALUE=DURATION:PT1H
X-Robots-Tag:noindex
X-PUBLISHED-TTL:PT1H
BEGIN:VTIMEZONE
TZID:Europe/Paris
BEGIN:DAYLIGHT
TZOFFSETFROM:+0100
TZOFFSETTO:+0200
TZNAME:CEST
DTSTART:20260329T010000
END:DAYLIGHT
BEGIN:STANDARD
TZOFFSETFROM:+0200
TZOFFSETTO:+0100
TZNAME:CET
DTSTART:20261025T010000
END:STANDARD
END:VTIMEZONE
BEGIN:VEVENT
DTSTART;TZID=Europe/Paris:20260405T180000
DTEND;TZID=Europe/Paris:20260405T203000
DTSTAMP:20260420T091834
CREATED:20260326T190528Z
LAST-MODIFIED:20260326T192612Z
UID:14687-1775412000-1775421000@www.stjohnsblackheath.org.uk
SUMMARY:Easter Sunday Holy Communion
DESCRIPTION:He is risen – join us to celebrate! Easter Sunday Holy Communion Service\nJoin us for a special Easter Sunday 6-7pm service led by our youth.\nOur evening service is informal and with communion once a month.\n7pm-8.30pm\nFollowing the main service\, we invite you to stay for an extended time of sung worship and prayer until 8:30PM!
URL:https://www.stjohnsblackheath.org.uk/event/easter-sunday-holy-communion/
LOCATION:St John’s Church\, St John's\, Strathaeden Rd\,\, London\, London\, SE3 7TD
CATEGORIES:Children and Youth,Easter,Events for men,Events for retirees,Events for women,Featured
ATTACH;FMTTYPE=image/png:https://www.stjohnsblackheath.org.uk/wp-content/uploads/2025/04/easter-hc.png
GEO:51.47579;0.018668
X-APPLE-STRUCTURED-LOCATION;VALUE=URI;X-ADDRESS=St John’s Church St John's Strathaeden Rd London London SE3 7TD;X-APPLE-RADIUS=500;X-TITLE=St John's\, Strathaeden Rd\,:geo:0.018668,51.47579
END:VEVENT
BEGIN:VEVENT
DTSTART;TZID=Europe/Paris:20260405T101500
DTEND;TZID=Europe/Paris:20260405T113000
DTSTAMP:20260420T091834
CREATED:20260326T190319Z
LAST-MODIFIED:20260326T190346Z
UID:14685-1775384100-1775388600@www.stjohnsblackheath.org.uk
SUMMARY:Easter Sunday
DESCRIPTION:He is risen – join us to celebrate! Easter Sunday Service\nOur morning service starts at 10:15am\nChildren’s groups – up to year 6 \nWatching remotely\nThe 10:15am service will also be live streamed when possible\, via our YouTube channel:\nhttps://youtube.com/c/StJohnsBlackheath/videos \n 
URL:https://www.stjohnsblackheath.org.uk/event/14685/
LOCATION:St John’s Church\, St John's\, Strathaeden Rd\,\, London\, London\, SE3 7TD
CATEGORIES:Easter,Featured
ATTACH;FMTTYPE=image/png:https://www.stjohnsblackheath.org.uk/wp-content/uploads/2025/04/easter-sunday-celebration.png
GEO:51.47579;0.018668
X-APPLE-STRUCTURED-LOCATION;VALUE=URI;X-ADDRESS=St John’s Church St John's Strathaeden Rd London London SE3 7TD;X-APPLE-RADIUS=500;X-TITLE=St John's\, Strathaeden Rd\,:geo:0.018668,51.47579
END:VEVENT
BEGIN:VEVENT
DTSTART;TZID=Europe/Paris:20260404T103000
DTEND;TZID=Europe/Paris:20260404T130000
DTSTAMP:20260420T091834
CREATED:20260326T192357Z
LAST-MODIFIED:20260326T192357Z
UID:14702-1775298600-1775307600@www.stjohnsblackheath.org.uk
SUMMARY:Eggs on Legs
DESCRIPTION:Join us for an Egg-cellent Hunt – Free fun for all the family!\nCafé\, children’s craft activities and an egg hunt with a difference!\nFind all the eggs around the local area and piece together the story of Easter. Pick up your map and egg hunt pack any time between 10.30-11.45am. Show us your completed stamp card to claim your prize!\n 
URL:https://www.stjohnsblackheath.org.uk/event/eggs-on-legs/
LOCATION:St John’s Church\, St John's\, Strathaeden Rd\,\, London\, London\, SE3 7TD
CATEGORIES:Children and Youth,Easter,Events for men,Events for retirees,Events for women,Featured
ATTACH;FMTTYPE=image/png:https://www.stjohnsblackheath.org.uk/wp-content/uploads/2025/04/eggs-on-legs.png
GEO:51.47579;0.018668
X-APPLE-STRUCTURED-LOCATION;VALUE=URI;X-ADDRESS=St John’s Church St John's Strathaeden Rd London London SE3 7TD;X-APPLE-RADIUS=500;X-TITLE=St John's\, Strathaeden Rd\,:geo:0.018668,51.47579
END:VEVENT
BEGIN:VEVENT
DTSTART;TZID=Europe/Paris:20260403T140000
DTEND;TZID=Europe/Paris:20260403T150000
DTSTAMP:20260420T091834
CREATED:20260326T192001Z
LAST-MODIFIED:20260326T192542Z
UID:14700-1775224800-1775228400@www.stjohnsblackheath.org.uk
SUMMARY:Good Friday – Hour at the Cross
DESCRIPTION:Good Friday – Hour at the Cross\nJoin us for a quite and contemplative service leading up to Jesus’ crucifixion\, with readings and quite time for prayer.
URL:https://www.stjohnsblackheath.org.uk/event/good-friday-hour-at-the-cross/
LOCATION:St John’s Church\, St John's\, Strathaeden Rd\,\, London\, London\, SE3 7TD
CATEGORIES:Easter,Events for men,Events for retirees,Events for women,Featured
ATTACH;FMTTYPE=image/png:https://www.stjohnsblackheath.org.uk/wp-content/uploads/2025/04/hour-at-the-cross.png
GEO:51.47579;0.018668
X-APPLE-STRUCTURED-LOCATION;VALUE=URI;X-ADDRESS=St John’s Church St John's Strathaeden Rd London London SE3 7TD;X-APPLE-RADIUS=500;X-TITLE=St John's\, Strathaeden Rd\,:geo:0.018668,51.47579
END:VEVENT
BEGIN:VEVENT
DTSTART;TZID=Europe/Paris:20260403T101500
DTEND;TZID=Europe/Paris:20260403T111500
DTSTAMP:20260420T091834
CREATED:20260326T191547Z
LAST-MODIFIED:20260330T083218Z
UID:14698-1775211300-1775214900@www.stjohnsblackheath.org.uk
SUMMARY:Good Friday All-age Service
DESCRIPTION:Join us for our Good Friday All-age Service\nA service for everyone\, whether you are 8 months or 88. All are welcome!
URL:https://www.stjohnsblackheath.org.uk/event/good-friday-all-age-service/
LOCATION:St John’s Church\, St John's\, Strathaeden Rd\,\, London\, London\, SE3 7TD
CATEGORIES:Children and Youth,Easter,Featured
ATTACH;FMTTYPE=image/png:https://www.stjohnsblackheath.org.uk/wp-content/uploads/2025/04/good-friday-all-age.png
GEO:51.47579;0.018668
X-APPLE-STRUCTURED-LOCATION;VALUE=URI;X-ADDRESS=St John’s Church St John's Strathaeden Rd London London SE3 7TD;X-APPLE-RADIUS=500;X-TITLE=St John's\, Strathaeden Rd\,:geo:0.018668,51.47579
END:VEVENT
BEGIN:VEVENT
DTSTART;TZID=Europe/Paris:20260402T193000
DTEND;TZID=Europe/Paris:20260402T203000
DTSTAMP:20260420T091834
CREATED:20260326T191405Z
LAST-MODIFIED:20260330T083150Z
UID:14696-1775158200-1775161800@www.stjohnsblackheath.org.uk
SUMMARY:Maundy Thursday Holy Communion
DESCRIPTION:Join us for our Maundy Thursday service\nA joint service between St John’s and Charlton and Blackheath Christian Fellowship – with Holy Communion. All welcome.
URL:https://www.stjohnsblackheath.org.uk/event/maundy-thursday-holy-communion/
LOCATION:St John’s Church\, St John's\, Strathaeden Rd\,\, London\, London\, SE3 7TD
CATEGORIES:Easter,Events for men,Events for retirees,Events for women,Featured
ATTACH;FMTTYPE=image/png:https://www.stjohnsblackheath.org.uk/wp-content/uploads/2025/04/maundy-thursday-service.png
GEO:51.47579;0.018668
X-APPLE-STRUCTURED-LOCATION;VALUE=URI;X-ADDRESS=St John’s Church St John's Strathaeden Rd London London SE3 7TD;X-APPLE-RADIUS=500;X-TITLE=St John's\, Strathaeden Rd\,:geo:0.018668,51.47579
END:VEVENT
BEGIN:VEVENT
DTSTART;TZID=Europe/Paris:20260330T200000
DTEND;TZID=Europe/Paris:20260330T210000
DTSTAMP:20260420T091834
CREATED:20260326T191230Z
LAST-MODIFIED:20260326T192523Z
UID:14694-1774900800-1774904400@www.stjohnsblackheath.org.uk
SUMMARY:Easter Prayer Gathering
DESCRIPTION:Join us for our Easter Prayer Gathering
URL:https://www.stjohnsblackheath.org.uk/event/easter-prayer-gathering/
LOCATION:St John’s Church\, St John's\, Strathaeden Rd\,\, London\, London\, SE3 7TD
CATEGORIES:Easter,Featured,Prayer events
ATTACH;FMTTYPE=image/png:https://www.stjohnsblackheath.org.uk/wp-content/uploads/2025/04/prayer-gathering.png
GEO:51.47579;0.018668
X-APPLE-STRUCTURED-LOCATION;VALUE=URI;X-ADDRESS=St John’s Church St John's Strathaeden Rd London London SE3 7TD;X-APPLE-RADIUS=500;X-TITLE=St John's\, Strathaeden Rd\,:geo:0.018668,51.47579
END:VEVENT
BEGIN:VEVENT
DTSTART;TZID=Europe/Paris:20260329T180000
DTEND;TZID=Europe/Paris:20260329T191500
DTSTAMP:20260420T091834
CREATED:20260326T190056Z
LAST-MODIFIED:20260326T190121Z
UID:14683-1774807200-1774811700@www.stjohnsblackheath.org.uk
SUMMARY:Palm Sunday 6pm
DESCRIPTION:Join us at our Palm Sunday Evening Service\nThe church is open for Sunday Worship at 6pm.\nOur evening service is informal and with communion once a month.\nYouth group – years 7-9
URL:https://www.stjohnsblackheath.org.uk/event/palm-sunday-6pm/
LOCATION:St John’s Church\, St John's\, Strathaeden Rd\,\, London\, London\, SE3 7TD
CATEGORIES:Easter,Featured
ATTACH;FMTTYPE=image/png:https://www.stjohnsblackheath.org.uk/wp-content/uploads/2025/04/palm-sunday-service.png
GEO:51.47579;0.018668
X-APPLE-STRUCTURED-LOCATION;VALUE=URI;X-ADDRESS=St John’s Church St John's Strathaeden Rd London London SE3 7TD;X-APPLE-RADIUS=500;X-TITLE=St John's\, Strathaeden Rd\,:geo:0.018668,51.47579
END:VEVENT
BEGIN:VEVENT
DTSTART;TZID=Europe/Paris:20260329T101500
DTEND;TZID=Europe/Paris:20260329T233000
DTSTAMP:20260420T091834
CREATED:20260326T185833Z
LAST-MODIFIED:20260326T185833Z
UID:14650-1774779300-1774827000@www.stjohnsblackheath.org.uk
SUMMARY:Palm Sunday Service
DESCRIPTION:Join us at our Palm Sunday Morning Service\nOur morning service starts at 10:15am\nChildren’s groups – up to year 6 \nWatching remotely\nThe 10:15am service will also be live streamed when possible\, via our YouTube channel:\nhttps://youtube.com/c/StJohnsBlackheath/videos \n 
URL:https://www.stjohnsblackheath.org.uk/event/palm-sunday-service/
LOCATION:St John’s Church\, St John's\, Strathaeden Rd\,\, London\, London\, SE3 7TD
CATEGORIES:Easter,Featured
ATTACH;FMTTYPE=image/png:https://www.stjohnsblackheath.org.uk/wp-content/uploads/2025/04/palm-sunday-service.png
GEO:51.47579;0.018668
X-APPLE-STRUCTURED-LOCATION;VALUE=URI;X-ADDRESS=St John’s Church St John's Strathaeden Rd London London SE3 7TD;X-APPLE-RADIUS=500;X-TITLE=St John's\, Strathaeden Rd\,:geo:0.018668,51.47579
END:VEVENT
END:VCALENDAR